BEGIN:VCALENDAR
VERSION:2.0
PRODID:-//Tukios.com/
BEGIN:VEVENT
UID:98de65b6-e41e-475a-a0b8-ecaeb23b9d32@www.gephartfuneralhome.com
DTSTAMP:20260423T021808Z
DTSTART:20260425T133000Z
DTEND:20260425T160000Z
SUMMARY:Visitation
DESCRIPTION:
URL:https://www.gephartfuneralhome.com/obituaries/bonnie-reinhardt
LOCATION: 706 West Jane Street  Bay City MI 48706
GEO:43.6003985;-83.9128004
END:VEVENT
END:VCALENDAR