BEGIN:VCALENDAR
VERSION:2.0
PRODID:-//Tukios.com/
BEGIN:VEVENT
UID:d124c847-6251-4402-8bca-2f3177deec4b@www.gephartfuneralhome.com
DTSTAMP:20260423T021908Z
DTSTART:20260425T160000Z
DTEND:20260425T170000Z
SUMMARY:Funeral Service
DESCRIPTION:
URL:https://www.gephartfuneralhome.com/obituaries/bonnie-reinhardt
LOCATION: 706 West Jane Street  Bay City MI 48706
GEO:43.6003985;-83.9128004
END:VEVENT
END:VCALENDAR