BEGIN:VCALENDAR
VERSION:2.0
PRODID:-//Tukios.com/
BEGIN:VEVENT
UID:c1ea8eb7-096f-4cf4-944c-b8ed916e0796@www.gephartfuneralhome.com
DTSTAMP:20260425T222450Z
DTSTART:20260517T170000Z
DTEND:20260517T180000Z
SUMMARY:Celebration of Life
DESCRIPTION:
URL:https://www.gephartfuneralhome.com/obituaries/george-krohn
LOCATION:Krzysiak's House Restaurant 1605 Michigan Ave  Bay City MI 48708
GEO:43.5652759;-83.885609
END:VEVENT
END:VCALENDAR