BEGIN:VCALENDAR
VERSION:2.0
PRODID:-//Tukios.com/
BEGIN:VEVENT
UID:2b79430e-3cc7-4aca-ac75-9af54ea972f3@www.gephartfuneralhome.com
DTSTAMP:20260422T035943Z
DTSTART:20260502T223000Z
DTEND:20260502T233000Z
SUMMARY:Memorial Service
DESCRIPTION:
URL:https://www.gephartfuneralhome.com/obituaries/jeffrey-jeff-brandow
LOCATION: 201 W Midland St  Bay City MI 48706
GEO:43.6016622;-83.906474
END:VEVENT
END:VCALENDAR