BEGIN:VCALENDAR
VERSION:2.0
PRODID:-//Tukios.com/
BEGIN:VEVENT
UID:84fca4c8-1983-47a8-beed-c3b08890e24b@www.gephartfuneralhome.com
DTSTAMP:20260422T035352Z
DTSTART:20260502T180000Z
DTEND:20260502T223000Z
SUMMARY:Visitation
DESCRIPTION:
URL:https://www.gephartfuneralhome.com/obituaries/jeffrey-jeff-brandow
LOCATION: 201 W Midland St  Bay City MI 48706
GEO:43.6016622;-83.906474
END:VEVENT
END:VCALENDAR