BEGIN:VCALENDAR
VERSION:2.0
PRODID:-//Tukios.com/
BEGIN:VEVENT
UID:21d1697b-6acb-4c2a-9d07-a99da2500d9f@www.gephartfuneralhome.com
DTSTAMP:20260423T181526Z
DTSTART:20260428T170000Z
DTEND:20260428T180000Z
SUMMARY:Funeral Service
DESCRIPTION:
URL:https://www.gephartfuneralhome.com/obituaries/marian-shorkey
LOCATION: 201 W Midland St  Bay City MI 48706
GEO:43.6016622;-83.906474
END:VEVENT
END:VCALENDAR