BEGIN:VCALENDAR
VERSION:2.0
PRODID:-//Tukios.com/
BEGIN:VEVENT
UID:badb9687-2d97-4116-b2fa-7aee8af18a42@www.gephartfuneralhome.com
DTSTAMP:20260423T181823Z
DTSTART:20260428T140000Z
DTEND:20260428T170000Z
SUMMARY:Visitation
DESCRIPTION:
URL:https://www.gephartfuneralhome.com/obituaries/marian-shorkey
LOCATION: 201 W Midland St  Bay City MI 48706
GEO:43.6016622;-83.906474
END:VEVENT
END:VCALENDAR