BEGIN:VCALENDAR
VERSION:2.0
PRODID:-//Tukios.com/
BEGIN:VEVENT
UID:aa9246c4-dd01-43ed-b886-762e6f64e0d7@www.gephartfuneralhome.com
DTSTAMP:20260424T233059Z
DTSTART:20260427T180000Z
DTEND:20260428T000000Z
SUMMARY:Visitation
DESCRIPTION:
URL:https://www.gephartfuneralhome.com/obituaries/william-bothe
LOCATION: 201 W Midland St  Bay City MI 48706
GEO:43.6016622;-83.906474
END:VEVENT
END:VCALENDAR