BEGIN:VCALENDAR
VERSION:2.0
PRODID:-//Tukios.com/
BEGIN:VEVENT
UID:8441add7-7dad-4c59-b042-1e416100588a@www.gephartfuneralhome.com
DTSTAMP:20260424T233415Z
DTSTART:20260428T160000Z
DTEND:20260428T170000Z
SUMMARY:Funeral Service
DESCRIPTION:
URL:https://www.gephartfuneralhome.com/obituaries/william-bothe
LOCATION: 997 East Beaver Road  Kawkawlin MI 48631
GEO:43.6677199;-84.0093044
END:VEVENT
END:VCALENDAR