BEGIN:VCALENDAR
VERSION:2.0
PRODID:-//Tukios.com/
BEGIN:VEVENT
UID:c1899e82-29ca-4b5c-9146-0170089b33f2@www.gephartfuneralhome.com
DTSTAMP:20260424T233116Z
DTSTART:20260428T150000Z
DTEND:20260428T160000Z
SUMMARY:Visitation
DESCRIPTION:
URL:https://www.gephartfuneralhome.com/obituaries/william-bothe
LOCATION: 997 East Beaver Road  Kawkawlin MI 48631
GEO:43.6677199;-84.0093044
END:VEVENT
END:VCALENDAR